
BEGIN:VCALENDAR
VERSION:2.0
PRODID:-//MarkedsPartner AS//Umbraco CMS//NO
TIMEZONE-ID:Europe/Oslo
X-WR-TIMEZONE:Europe/Oslo


BEGIN:VEVENT
UID:a57e4d8732b84f97a601a320872bc720
URL:https://umbraco.naeringsforeningen.no/moeter/arkiv/styreskolen_150921/
ORGANIZER;CN=Ola Normann:MAILTO:ola.normann@markedspartner.no
DTSTAMP:20211115T070000Z
DTSTART:20211115T070000Z
DTEND:20211115T100000Z
LAST-MODIFIED:20221031T123025Z
SUMMARY:Styreskolen 2020: Styrearbeid- UTSATT
DESCRIPTION:info kommer
X-ALT-DESC:info kommer
LOCATION:Rosenkildehuset
END:VEVENT


END:VCALENDAR



