
BEGIN:VCALENDAR
VERSION:2.0
PRODID:-//MarkedsPartner AS//Umbraco CMS//NO
TIMEZONE-ID:Europe/Oslo
X-WR-TIMEZONE:Europe/Oslo


BEGIN:VEVENT
UID:1e5b4a866e9344998e6957227d9be299
URL:https://umbraco.naeringsforeningen.no/moeter/arkiv/styreskolen_150920/
ORGANIZER;CN=Ola Normann:MAILTO:ola.normann@markedspartner.no
DTSTAMP:20200915T063000Z
DTSTART:20200915T063000Z
DTEND:20200915T093000Z
LAST-MODIFIED:20221031T113903Z
SUMMARY:Styreskolen 2020: Eierstyring og lederlønninger
DESCRIPTION:Hvordan sørge for at ledelsens innsats er i tråd med eiernes interesser? Hvilke incentiver fungerer best for å optimalisere denne innsatsen?
X-ALT-DESC:Hvordan s&#248;rge for at ledelsens innsats er i tr&#229;d med eiernes interesser? Hvilke incentiver fungerer best for &#229; optimalisere denne innsatsen?
LOCATION:Rosenkildehuset
END:VEVENT


END:VCALENDAR



