
BEGIN:VCALENDAR
VERSION:2.0
PRODID:-//MarkedsPartner AS//Umbraco CMS//NO
TIMEZONE-ID:Europe/Oslo
X-WR-TIMEZONE:Europe/Oslo


BEGIN:VEVENT
UID:c4da5b0483dc4b23a1618d73f461fdff
URL:https://umbraco.naeringsforeningen.no/moeter/arkiv/styreskolen-2019-informasjonsteknologi/
ORGANIZER;CN=Ola Normann:MAILTO:ola.normann@markedspartner.no
DTSTAMP:20191112T073000Z
DTSTART:20191112T073000Z
DTEND:20191112T103000Z
LAST-MODIFIED:20221031T114153Z
SUMMARY:Styreskolen 2019: Ledelse i en digital økonomi
DESCRIPTION:Digitalisering av virksomheter, eller digital transformasjon, er en formidabel oppgave for ledere. Dette arbeidet bør starte i styrerommet og i toppledelsen. Dessverre overlates det isteden til teknologer og konsulenter. Denne formiddagen setter lyset på hvorfor og hvordan styret og toppledelsen kan lede an i dette arbeidet på en bedre måte.
X-ALT-DESC:Digitalisering av virksomheter, eller digital transformasjon, er en formidabel oppgave for ledere. Dette arbeidet b&#248;r starte i styrerommet og i toppledelsen. Dessverre overlates det isteden til teknologer og konsulenter. Denne formiddagen setter lyset p&#229; hvorfor og hvordan styret og toppledelsen kan lede an i dette arbeidet p&#229; en bedre m&#229;te.
LOCATION:Ydalir hotel, UiS Campus
END:VEVENT


END:VCALENDAR



