
BEGIN:VCALENDAR
VERSION:2.0
PRODID:-//MarkedsPartner AS//Umbraco CMS//NO
TIMEZONE-ID:Europe/Oslo
X-WR-TIMEZONE:Europe/Oslo


BEGIN:VEVENT
UID:f5ce1c65b4a6489fb28cc03034139ae1
URL:https://umbraco.naeringsforeningen.no/moeter/arkiv/styreskolen-2019-dilemmatrening/
ORGANIZER;CN=Ola Normann:MAILTO:ola.normann@markedspartner.no
DTSTAMP:20190917T063000Z
DTSTART:20190917T063000Z
DTEND:20190917T093000Z
LAST-MODIFIED:20221031T113449Z
SUMMARY:Styreskolen 2019: Dilemmatrening
DESCRIPTION:Professor Rune Todnem By redefinerer ledelse med det formål å videreutvikle vår forståelse for og utvikling av denne essensielle kapasiteten. Velkommen til Styreskolen med fokus på dilemmatrening.
X-ALT-DESC:Professor Rune Todnem By redefinerer ledelse med det form&#229;l &#229; videreutvikle v&#229;r forst&#229;else for og utvikling av denne essensielle kapasiteten. Velkommen til Styreskolen med fokus p&#229; dilemmatrening.
LOCATION:Ydalir Hotel, UiS Campus
END:VEVENT


END:VCALENDAR



