
BEGIN:VCALENDAR
VERSION:2.0
PRODID:-//MarkedsPartner AS//Umbraco CMS//NO
TIMEZONE-ID:Europe/Oslo
X-WR-TIMEZONE:Europe/Oslo


BEGIN:VEVENT
UID:3d63a472e47c473a91cca5c81ed7661d
URL:https://umbraco.naeringsforeningen.no/moeter/arkiv/styrekurs_mars-2023/
ORGANIZER;CN=Ola Normann:MAILTO:ola.normann@markedspartner.no
DTSTAMP:20230308T073000Z
DTSTART:20230308T073000Z
DTEND:20230308T140000Z
LAST-MODIFIED:20230308T224343Z
SUMMARY:Introduksjonskurs i styrearbeid
DESCRIPTION:Ny som leder, politiker, tillitsvalgt eller nytt styremedlem?  Din stemme for eller imot en sak kan være avgjørende.  Bli med på dette styrekurset for å lære mer om styrets rolle, ansvar, samhandling mellom styret og ledelse, og ikke minst hva som er god praksis for styrearbeid.
X-ALT-DESC:Ny som leder, politiker, tillitsvalgt eller nytt styremedlem?  Din stemme for eller imot en sak kan v&#230;re avgj&#248;rende.  Bli med p&#229; dette styrekurset for &#229; l&#230;re mer om styrets rolle, ansvar, samhandling mellom styret og ledelse, og ikke minst hva som er god praksis for styrearbeid.
LOCATION:Rosenkildehuset, Strandkaien 6, 4005 Stavanger
END:VEVENT


END:VCALENDAR



