
BEGIN:VCALENDAR
VERSION:2.0
PRODID:-//MarkedsPartner AS//Umbraco CMS//NO
TIMEZONE-ID:Europe/Oslo
X-WR-TIMEZONE:Europe/Oslo


BEGIN:VEVENT
UID:6d95aebd375d463c8e8f413403b63380
URL:https://umbraco.naeringsforeningen.no/moeter/arkiv/styrekurs_2025/
ORGANIZER;CN=Ola Normann:MAILTO:ola.normann@markedspartner.no
DTSTAMP:20250220T070000Z
DTSTART:20250220T070000Z
DTEND:20250220T140000Z
LAST-MODIFIED:20250223T153615Z
SUMMARY:Ny innen styrearbeid?
DESCRIPTION:Er du ny som leder, styremedlem, politiker eller tillitsvalgt? Velkommen til en unik kursdag om styrets rolle, ansvar, samhandling mellom styret og ledelse, og ikke minst hva som er god praksis for styrearbeid.
X-ALT-DESC:Er du ny som leder, styremedlem, politiker eller tillitsvalgt? Velkommen til en unik kursdag om styrets rolle, ansvar, samhandling mellom styret og ledelse, og ikke minst hva som er god praksis for styrearbeid.
LOCATION:Rosenkildehuset
END:VEVENT


END:VCALENDAR



