
BEGIN:VCALENDAR
VERSION:2.0
PRODID:-//MarkedsPartner AS//Umbraco CMS//NO
TIMEZONE-ID:Europe/Oslo
X-WR-TIMEZONE:Europe/Oslo


BEGIN:VEVENT
UID:a0992efba0334e24a9b0a76a04d29e5c
URL:https://umbraco.naeringsforeningen.no/moeter/arkiv/styrekurs-for-nye_140421/
ORGANIZER;CN=Ola Normann:MAILTO:ola.normann@markedspartner.no
DTSTAMP:20210414T063000Z
DTSTART:20210414T063000Z
DTEND:20210414T090000Z
LAST-MODIFIED:20221031T121058Z
SUMMARY:Styrearbeid satt i system
DESCRIPTION:DIGITALKONFERANSE: Solid styrearbeid er avgjørende for alle virksomheter og organisasjoner.  Om din bedrift er i oppstartsfasen eller godt etablert, så er det tid for årsoppgjør, inkl. sammensetning av nytt styre som skal sikre bedriftens videre drift på best mulig måte.
X-ALT-DESC:DIGITALKONFERANSE: Solid styrearbeid er avgj&#248;rende for alle virksomheter og organisasjoner.  Om din bedrift er i oppstartsfasen eller godt etablert, s&#229; er det tid for &#229;rsoppgj&#248;r, inkl. sammensetning av nytt styre som skal sikre bedriftens videre drift p&#229; best mulig m&#229;te.
LOCATION:Digitalkonferanse
END:VEVENT


END:VCALENDAR



