
BEGIN:VCALENDAR
VERSION:2.0
PRODID:-//MarkedsPartner AS//Umbraco CMS//NO
TIMEZONE-ID:Europe/Oslo
X-WR-TIMEZONE:Europe/Oslo


BEGIN:VEVENT
UID:518df43f93ce421593aba3ce0d5f945f
URL:https://umbraco.naeringsforeningen.no/moeter/arkiv/styrearbeid-_-april-2025/
ORGANIZER;CN=Ola Normann:MAILTO:ola.normann@markedspartner.no
DTSTAMP:20250402T063000Z
DTSTART:20250402T063000Z
DTEND:20250402T100000Z
LAST-MODIFIED:20250403T131913Z
SUMMARY:Introduksjonskurs i styrearbeid
DESCRIPTION:Regjeringen har satt krav til mangfold i styrer. Kurset er  et ledd i utviklingen av flere styrekandidater og sikre at bedriftene tar en gjennomgang av sine styremedlemmer før generalforsamlingene.
X-ALT-DESC:Regjeringen har satt krav til mangfold i styrer. Kurset er  et ledd i utviklingen av flere styrekandidater og sikre at bedriftene tar en gjennomgang av sine styremedlemmer f&#248;r generalforsamlingene.
LOCATION:Hotell J&#230;ren,  Solh&#248;gda 3, 4340 Bryne
END:VEVENT


END:VCALENDAR



