
BEGIN:VCALENDAR
VERSION:2.0
PRODID:-//MarkedsPartner AS//Umbraco CMS//NO
TIMEZONE-ID:Europe/Oslo
X-WR-TIMEZONE:Europe/Oslo


BEGIN:VEVENT
UID:bfcf89ced4114921a3a77ffe3b48577f
URL:https://umbraco.naeringsforeningen.no/moeter/arkiv/studenttreffdalane/
ORGANIZER;CN=Ola Normann:MAILTO:ola.normann@markedspartner.no
DTSTAMP:20221229T180000Z
DTSTART:20221229T180000Z
DTEND:20221229T210000Z
LAST-MODIFIED:20230103T114915Z
SUMMARY:Bli med på studenttreff i Egersundsregionen
DESCRIPTION:Vi ønsker velkommen til alle studenter i Egersundsregionen. Bli kjent med spennende bedrifter, og hør om hvilke muligheter som finnes.
X-ALT-DESC:Vi &#248;nsker velkommen til alle studenter i Egersundsregionen. Bli kjent med spennende bedrifter, og h&#248;r om hvilke muligheter som finnes.
LOCATION: Easy Bar, Egersund
END:VEVENT


END:VCALENDAR



