
BEGIN:VCALENDAR
VERSION:2.0
PRODID:-//MarkedsPartner AS//Umbraco CMS//NO
TIMEZONE-ID:Europe/Oslo
X-WR-TIMEZONE:Europe/Oslo


BEGIN:VEVENT
UID:59935f9d900d4a46968fade5be18f4d7
URL:https://umbraco.naeringsforeningen.no/moeter/arkiv/streaming-av-lederskolen-med-torger-reve-259/
ORGANIZER;CN=Ola Normann:MAILTO:ola.normann@markedspartner.no
DTSTAMP:20200925T090000Z
DTSTART:20200925T090000Z
DTEND:20200925T110000Z
LAST-MODIFIED:20221031T113927Z
SUMMARY:Streaming Lederskolen: Strategi og ledelse med Torger Reve
DESCRIPTION:Torger Reve er en av BIs mest profilerte og anerkjente foredragsholdere. Nå kommer han til Lederskolen for å snakke om strategi og ledelse, hvordan vi skaper nytt næringsliv og nye arbeidsplasser: Om kompetanse, klynger og innovative økosystemer.
X-ALT-DESC:Torger Reve er en av BIs mest profilerte og anerkjente foredragsholdere. N&#229; kommer han til Lederskolen for &#229; snakke om strategi og ledelse, hvordan vi skaper nytt n&#230;ringsliv og nye arbeidsplasser: Om kompetanse, klynger og innovative &#248;kosystemer.
LOCATION:
END:VEVENT


END:VCALENDAR



