
BEGIN:VCALENDAR
VERSION:2.0
PRODID:-//MarkedsPartner AS//Umbraco CMS//NO
TIMEZONE-ID:Europe/Oslo
X-WR-TIMEZONE:Europe/Oslo


BEGIN:VEVENT
UID:970f17451c1046388f5796d31463bec4
URL:https://umbraco.naeringsforeningen.no/moeter/arkiv/stavanger-an-attractive-finance-hub/
ORGANIZER;CN=Ola Normann:MAILTO:ola.normann@markedspartner.no
DTSTAMP:20201015T163000Z
DTSTART:20201015T163000Z
DTEND:20201015T193000Z
LAST-MODIFIED:20221031T114106Z
SUMMARY:Stavanger – an attractive finance hub
DESCRIPTION:All finance students are invited to a social evening meeting the established​ finance environment in Stavanger.
X-ALT-DESC:All finance students are invited to a social evening meeting the established​ finance environment in Stavanger.
LOCATION:Rosenkildehuset
END:VEVENT


END:VCALENDAR



