
BEGIN:VCALENDAR
VERSION:2.0
PRODID:-//MarkedsPartner AS//Umbraco CMS//NO
TIMEZONE-ID:Europe/Oslo
X-WR-TIMEZONE:Europe/Oslo


BEGIN:VEVENT
UID:dafeab0e6dc4440a98b092a7948d49bb
URL:https://umbraco.naeringsforeningen.no/moeter/arkiv/sr-bank-og-nybygget-slik-gjorde-de-det/
ORGANIZER;CN=Ola Normann:MAILTO:ola.normann@markedspartner.no
DTSTAMP:20191203T070000Z
DTSTART:20191203T070000Z
DTEND:20191203T093000Z
LAST-MODIFIED:20221031T114415Z
SUMMARY:Finansparken: Slik fikk de det til
DESCRIPTION:Bli med når vi besøker den nyåpnede Finansparken, et av Europas største næringsbygg i tre. Vi får høre hva som var arkitektens utgangspunkt, hvordan byggeprosessen ble gjennomført og hvordan SpareBank 1 SR-Bank har tenkt å ta i bruk sin nye storstue når de nå flytter inn.
X-ALT-DESC:Bli med n&#229;r vi bes&#248;ker den ny&#229;pnede Finansparken, et av Europas st&#248;rste n&#230;ringsbygg i tre. Vi f&#229;r h&#248;re hva som var arkitektens utgangspunkt, hvordan byggeprosessen ble gjennomf&#248;rt og hvordan SpareBank 1 SR-Bank har tenkt &#229; ta i bruk sin nye storstue n&#229;r de n&#229; flytter inn.
LOCATION:Finansparken, Bjergsted
END:VEVENT


END:VCALENDAR



