
BEGIN:VCALENDAR
VERSION:2.0
PRODID:-//MarkedsPartner AS//Umbraco CMS//NO
TIMEZONE-ID:Europe/Oslo
X-WR-TIMEZONE:Europe/Oslo


BEGIN:VEVENT
UID:22a65fef632f4ce4932fe946ffd4ab8e
URL:https://umbraco.naeringsforeningen.no/moeter/arkiv/sosialt-entreprenoerskap-med-silje-veen/
ORGANIZER;CN=Ola Normann:MAILTO:ola.normann@markedspartner.no
DTSTAMP:20200316T070000Z
DTSTART:20200316T070000Z
DTEND:20200316T083000Z
LAST-MODIFIED:20221031T120135Z
SUMMARY:Sosialt entreprenørskap med Silje Veen
DESCRIPTION:UTSATT. NY DATO KOMMER. Sosialt entreprenørskap handler om å utvikle og ta i bruk nye løsninger på sosiale og samfunnsmessige problemer. Silje Veen er en av dem som satser tid og penger på nettopp dette. Kom og få tips til hvordan DIN bedrift kan bidra til en mer bærekraftig samfunnsutvikling.
X-ALT-DESC:UTSATT. NY DATO KOMMER. Sosialt entrepren&#248;rskap handler om &#229; utvikle og ta i bruk nye l&#248;sninger p&#229; sosiale og samfunnsmessige problemer. Silje Veen er en av dem som satser tid og penger p&#229; nettopp dette. Kom og f&#229; tips til hvordan DIN bedrift kan bidra til en mer b&#230;rekraftig samfunnsutvikling.
LOCATION:Rosenkildehuset
END:VEVENT


END:VCALENDAR



