
BEGIN:VCALENDAR
VERSION:2.0
PRODID:-//MarkedsPartner AS//Umbraco CMS//NO
TIMEZONE-ID:Europe/Oslo
X-WR-TIMEZONE:Europe/Oslo


BEGIN:VEVENT
UID:d07b9fc62bb842c98ff87efd7af09403
URL:https://umbraco.naeringsforeningen.no/moeter/arkiv/sommertreff-utstein-kloster-hotell/
ORGANIZER;CN=Ola Normann:MAILTO:ola.normann@markedspartner.no
DTSTAMP:20200624T160000Z
DTSTART:20200624T160000Z
DTEND:20200624T200000Z
LAST-MODIFIED:20221031T121516Z
SUMMARY:Sommertreff for næringslivet
DESCRIPTION:Vi inviterer næringslivet på øyane til sommertreff i vakre omgivelser på nyoppussede Utstein Kloster Hotell. Vi byr på faglig påfyll nydelig 3-retters middag i godt selskap.
X-ALT-DESC:Vi inviterer n&#230;ringslivet p&#229; &#248;yane til sommertreff i vakre omgivelser p&#229; nyoppussede Utstein Kloster Hotell. Vi byr p&#229; faglig p&#229;fyll nydelig 3-retters middag i godt selskap.
LOCATION:Utstein Kloster Hotell
END:VEVENT


END:VCALENDAR



