
BEGIN:VCALENDAR
VERSION:2.0
PRODID:-//MarkedsPartner AS//Umbraco CMS//NO
TIMEZONE-ID:Europe/Oslo
X-WR-TIMEZONE:Europe/Oslo


BEGIN:VEVENT
UID:301774d011ec48f78673cf1d826552f2
URL:https://umbraco.naeringsforeningen.no/moeter/arkiv/sommertreff-i-sandnes/
ORGANIZER;CN=Ola Normann:MAILTO:ola.normann@markedspartner.no
DTSTAMP:20200827T160000Z
DTSTART:20200827T160000Z
DTEND:20200827T203000Z
LAST-MODIFIED:20221031T113808Z
SUMMARY:Sommertreff på Bakernes Paradis
DESCRIPTION:Velkommen til sommertreff i Sandnes, på vakre Bakernes Paradis på Lauvik. Det blir gjensynsglede, lave skuldre, faglig innhold, deilige smaksopplevelser og flott musikk.
X-ALT-DESC:Velkommen til sommertreff i Sandnes, p&#229; vakre Bakernes Paradis p&#229; Lauvik. Det blir gjensynsglede, lave skuldre, faglig innhold, deilige smaksopplevelser og flott musikk.
LOCATION:Bakernes Paradis, Lauvikveien 265, 4308 Sandnes
END:VEVENT


END:VCALENDAR



