
BEGIN:VCALENDAR
VERSION:2.0
PRODID:-//MarkedsPartner AS//Umbraco CMS//NO
TIMEZONE-ID:Europe/Oslo
X-WR-TIMEZONE:Europe/Oslo


BEGIN:VEVENT
UID:50972c6ed97e43d0a064f5acdd86bb7a
URL:https://umbraco.naeringsforeningen.no/moeter/arkiv/sommermingel-reiseliv200624/
ORGANIZER;CN=Ola Normann:MAILTO:ola.normann@markedspartner.no
DTSTAMP:20240620T090000Z
DTSTART:20240620T090000Z
DTEND:20240620T110000Z
LAST-MODIFIED:20240621T082414Z
SUMMARY:Sommermingel for reiselivsnæringen
DESCRIPTION:Næringsforeningen sitt fagråd for reiseliv inviterer til en sommerlig lunsj med litt "faglig attåt".
X-ALT-DESC:N&#230;ringsforeningen sitt fagr&#229;d for reiseliv inviterer til en sommerlig lunsj med litt &quot;faglig att&#229;t&quot;.
LOCATION:Rosenkildehuset
END:VEVENT


END:VCALENDAR



