
BEGIN:VCALENDAR
VERSION:2.0
PRODID:-//MarkedsPartner AS//Umbraco CMS//NO
TIMEZONE-ID:Europe/Oslo
X-WR-TIMEZONE:Europe/Oslo


BEGIN:VEVENT
UID:438120b93f754427b19cf99da83dd312
URL:https://umbraco.naeringsforeningen.no/moeter/arkiv/sommerfest-i-dalane_240823-1/
ORGANIZER;CN=Ola Normann:MAILTO:ola.normann@markedspartner.no
DTSTAMP:20230824T170000Z
DTSTART:20230824T170000Z
DTEND:20230824T210000Z
LAST-MODIFIED:20230825T104710Z
SUMMARY:Næringsforeningens sommerfest i Dalane
DESCRIPTION:Vi går ombord på Fonn Brygge med sommer, sol, sjømat og utdeling av Dalaneprisen.
X-ALT-DESC:Vi g&#229;r ombord p&#229; Fonn Brygge med sommer, sol, sj&#248;mat og utdeling av Dalaneprisen.
LOCATION:Fonn Brygge, Egersund
END:VEVENT


END:VCALENDAR



