
BEGIN:VCALENDAR
VERSION:2.0
PRODID:-//MarkedsPartner AS//Umbraco CMS//NO
TIMEZONE-ID:Europe/Oslo
X-WR-TIMEZONE:Europe/Oslo


BEGIN:VEVENT
UID:fbae6a1b3c8f464ca607be54ae7bd479
URL:https://umbraco.naeringsforeningen.no/moeter/arkiv/sommerfest-i-dalane_220824/
ORGANIZER;CN=Ola Normann:MAILTO:ola.normann@markedspartner.no
DTSTAMP:20240822T160000Z
DTSTART:20240822T160000Z
DTEND:20240822T200000Z
LAST-MODIFIED:20240828T064824Z
SUMMARY:Næringsforeningens sommerfest i Dalane
DESCRIPTION:Vi feirer med sommer, god mat og drikke og utdeling av Dalaneprisen på Grand Hotell i Egersund.
X-ALT-DESC:Vi feirer med sommer, god mat og drikke og utdeling av Dalaneprisen p&#229; Grand Hotell i Egersund.
LOCATION:Grand Hotell
END:VEVENT


END:VCALENDAR



