
BEGIN:VCALENDAR
VERSION:2.0
PRODID:-//MarkedsPartner AS//Umbraco CMS//NO
TIMEZONE-ID:Europe/Oslo
X-WR-TIMEZONE:Europe/Oslo


BEGIN:VEVENT
UID:bfdb66a002b24397b0f7fd47701a99f5
URL:https://umbraco.naeringsforeningen.no/moeter/arkiv/sommerfest-i-dalane_2022/
ORGANIZER;CN=Ola Normann:MAILTO:ola.normann@markedspartner.no
DTSTAMP:20220825T170000Z
DTSTART:20220825T170000Z
DTEND:20220825T210000Z
LAST-MODIFIED:20221031T121125Z
SUMMARY:Sommerfest i Dalane
DESCRIPTION:En minglefest i historiske omgivelser i Skrivergården i Strandgaten i Egersund, velkommen til årets sommerfest i Dalane!
X-ALT-DESC:En minglefest i historiske omgivelser i Skriverg&#229;rden i Strandgaten i Egersund, velkommen til &#229;rets sommerfest i Dalane!
LOCATION:Skriverg&#229;rden i Strandgaten i Egersund.
END:VEVENT


END:VCALENDAR



