
BEGIN:VCALENDAR
VERSION:2.0
PRODID:-//MarkedsPartner AS//Umbraco CMS//NO
TIMEZONE-ID:Europe/Oslo
X-WR-TIMEZONE:Europe/Oslo


BEGIN:VEVENT
UID:69b9969b789540488a1c7b4bd43c25a8
URL:https://umbraco.naeringsforeningen.no/moeter/arkiv/sommerfest-i-dalane/
ORGANIZER;CN=Ola Normann:MAILTO:ola.normann@markedspartner.no
DTSTAMP:20190829T163000Z
DTSTART:20190829T163000Z
DTEND:20190829T210000Z
LAST-MODIFIED:20221031T113413Z
SUMMARY:Sommerfest i Dalane
DESCRIPTION:Velkommen til årets sommerfest i Dalane i Feylingsbua i Egersund. I år byr vi på god underholdning, mingling og mat fra det blå matfatet. FISKBY-K, sammen med AKS, står for maten og serveringen. God drikke får vi fra vår lokale øl- og mineralvannprodusent Berentsen Brygghus, lokalbrendt kaffe fra Mocca og vi får servert is fra Il-Gelato.
X-ALT-DESC:Velkommen til &#229;rets sommerfest i Dalane i Feylingsbua i Egersund. I &#229;r byr vi p&#229; god underholdning, mingling og mat fra det bl&#229; matfatet. FISKBY-K, sammen med AKS, st&#229;r for maten og serveringen. God drikke f&#229;r vi fra v&#229;r lokale &#248;l- og mineralvannprodusent Berentsen Brygghus, lokalbrendt kaffe fra Mocca og vi f&#229;r servert is fra Il-Gelato.
LOCATION:Feylingsbua, Egersund
END:VEVENT


END:VCALENDAR



