
BEGIN:VCALENDAR
VERSION:2.0
PRODID:-//MarkedsPartner AS//Umbraco CMS//NO
TIMEZONE-ID:Europe/Oslo
X-WR-TIMEZONE:Europe/Oslo


BEGIN:VEVENT
UID:4cfcff57293941c6a1cbcacdddb85816
URL:https://umbraco.naeringsforeningen.no/moeter/arkiv/solid-styrearbeid-i-praksis_290920-1/
ORGANIZER;CN=Ola Normann:MAILTO:ola.normann@markedspartner.no
DTSTAMP:20200929T100000Z
DTSTART:20200929T100000Z
DTEND:20200929T131500Z
LAST-MODIFIED:20221031T113933Z
SUMMARY:Solid styrearbeid i praksis
DESCRIPTION:Det arrangeres møter hvor de viktigste diskusjonene foregår på gangen i pausen eller i etterkant.  Både i styremøter, ledermøter og i hverdagen kan resultatene blir bedre om det innarbeides  god struktur og møtekultur, både i forkant av møtet, i selve møtet og protokoll.
X-ALT-DESC:Det arrangeres m&#248;ter hvor de viktigste diskusjonene foreg&#229;r p&#229; gangen i pausen eller i etterkant.  B&#229;de i styrem&#248;ter, lederm&#248;ter og i hverdagen kan resultatene blir bedre om det innarbeides  god struktur og m&#248;tekultur, b&#229;de i forkant av m&#248;tet, i selve m&#248;tet og protokoll.
LOCATION:Rosenkildehuset
END:VEVENT


END:VCALENDAR



