
BEGIN:VCALENDAR
VERSION:2.0
PRODID:-//MarkedsPartner AS//Umbraco CMS//NO
TIMEZONE-ID:Europe/Oslo
X-WR-TIMEZONE:Europe/Oslo


BEGIN:VEVENT
UID:3e411a90bd224d979de982fb29d8d738
URL:https://umbraco.naeringsforeningen.no/moeter/arkiv/sol-energi_230321/
ORGANIZER;CN=Ola Normann:MAILTO:ola.normann@markedspartner.no
DTSTAMP:20210323T100000Z
DTSTART:20210323T100000Z
DTEND:20210323T113000Z
LAST-MODIFIED:20221031T120932Z
SUMMARY:Solenergi - en næring i vekst!
DESCRIPTION:DIGITALKONFERANSE: Solenergi er en næring i vekst, også i Rogaland. Få oversikt over mulighetene!
X-ALT-DESC:DIGITALKONFERANSE: Solenergi er en n&#230;ring i vekst, ogs&#229; i Rogaland. F&#229; oversikt over mulighetene!
LOCATION:Webinar
END:VEVENT


END:VCALENDAR



