
BEGIN:VCALENDAR
VERSION:2.0
PRODID:-//MarkedsPartner AS//Umbraco CMS//NO
TIMEZONE-ID:Europe/Oslo
X-WR-TIMEZONE:Europe/Oslo


BEGIN:VEVENT
UID:aa230b826697467ab9e96b93ab524c3f
URL:https://umbraco.naeringsforeningen.no/moeter/arkiv/smaksfest-for-naeringslivet/
ORGANIZER;CN=Ola Normann:MAILTO:ola.normann@markedspartner.no
DTSTAMP:20220915T120000Z
DTSTART:20220915T120000Z
DTEND:20220915T150000Z
LAST-MODIFIED:20221031T121209Z
SUMMARY:Smaksfest for næringslivet i Sola
DESCRIPTION:Velkommen til en pustepause! Før årets Smaksfest på Sola går av stabelen inviterer vi til en smaksrik og uformell minglelunsj med kjente og kjære i næringslivet. Midt i matfatet får du både faglig innhold og ureiste råvarer som gir deg vann i munnen.
X-ALT-DESC:Velkommen til en pustepause! F&#248;r &#229;rets Smaksfest p&#229; Sola g&#229;r av stabelen inviterer vi til en smaksrik og uformell minglelunsj med kjente og kj&#230;re i n&#230;ringslivet. Midt i matfatet f&#229;r du b&#229;de faglig innhold og ureiste r&#229;varer som gir deg vann i munnen.
LOCATION:Solastranden G&#229;rd, Nordsj&#248;veien 299 4053 R&#230;ge
END:VEVENT


END:VCALENDAR



