
BEGIN:VCALENDAR
VERSION:2.0
PRODID:-//MarkedsPartner AS//Umbraco CMS//NO
TIMEZONE-ID:Europe/Oslo
X-WR-TIMEZONE:Europe/Oslo


BEGIN:VEVENT
UID:d0b31b210d3942d886becbcca3094435
URL:https://umbraco.naeringsforeningen.no/moeter/arkiv/slik-skal-vi-bygge-paa-nord-jaeren/
ORGANIZER;CN=Ola Normann:MAILTO:ola.normann@markedspartner.no
DTSTAMP:20200602T110000Z
DTSTART:20200602T110000Z
DTEND:20200602T121500Z
LAST-MODIFIED:20221031T121214Z
SUMMARY:Webinar: Slik skal vi bygge på Nord-Jæren
DESCRIPTION:Nå kommer det nye krav til hvordan vi skal bygge og bo på Nord-Jæren; utnyttelsesgrad, oppholdsareal, lekeplasser og solforhold – for å nevne noe. Bli med når vi presenterer de nye retningslinjene for stedsforming og bokvalitet – og si din mening før høringsfristen går ut 20. juni.
X-ALT-DESC:N&#229; kommer det nye krav til hvordan vi skal bygge og bo p&#229; Nord-J&#230;ren; utnyttelsesgrad, oppholdsareal, lekeplasser og solforhold – for &#229; nevne noe. Bli med n&#229;r vi presenterer de nye retningslinjene for stedsforming og bokvalitet – og si din mening f&#248;r h&#248;ringsfristen g&#229;r ut 20. juni.
LOCATION:Online
END:VEVENT


END:VCALENDAR



