
BEGIN:VCALENDAR
VERSION:2.0
PRODID:-//MarkedsPartner AS//Umbraco CMS//NO
TIMEZONE-ID:Europe/Oslo
X-WR-TIMEZONE:Europe/Oslo


BEGIN:VEVENT
UID:691a3297d20345b2ac0d6e3aaf59d14d
URL:https://umbraco.naeringsforeningen.no/moeter/arkiv/slik-blir-du-miljoesertifisert/
ORGANIZER;CN=Ola Normann:MAILTO:ola.normann@markedspartner.no
DTSTAMP:20240530T060000Z
DTSTART:20240530T060000Z
DTEND:20240530T073000Z
LAST-MODIFIED:20240604T151815Z
SUMMARY:Slik blir du miljøsertifisert
DESCRIPTION:I dag er det et konkurransefortrinn å være miljøsertifisert. Vi får besøk av Renate Lindmark fra Miljøfyrtårn, som forteller oss hvorfor og hvordan også din bedrift kan bli en miljøsertifisert virksomhet. I tillegg har vi med oss Årets Miljøfyrtårn i 2021, Nordic Steel, Årets Miljøfyrtårn i 2023, Midbøe og Miljøfyrtårn-bedriften Norsk Akustikksenter.
X-ALT-DESC:I dag er det et konkurransefortrinn &#229; v&#230;re milj&#248;sertifisert. Vi f&#229;r bes&#248;k av Renate Lindmark fra Milj&#248;fyrt&#229;rn, som forteller oss hvorfor og hvordan ogs&#229; din bedrift kan bli en milj&#248;sertifisert virksomhet. I tillegg har vi med oss &#197;rets Milj&#248;fyrt&#229;rn i 2021, Nordic Steel, &#197;rets Milj&#248;fyrt&#229;rn i 2023, Midb&#248;e og Milj&#248;fyrt&#229;rn-bedriften Norsk Akustikksenter.
LOCATION:Rosenkildehuset
END:VEVENT


END:VCALENDAR



