
BEGIN:VCALENDAR
VERSION:2.0
PRODID:-//MarkedsPartner AS//Umbraco CMS//NO
TIMEZONE-ID:Europe/Oslo
X-WR-TIMEZONE:Europe/Oslo


BEGIN:VEVENT
UID:c94bececd30d4353843f063a5c8ec338
URL:https://umbraco.naeringsforeningen.no/moeter/arkiv/slik-blir-2023/
ORGANIZER;CN=Ola Normann:MAILTO:ola.normann@markedspartner.no
DTSTAMP:20230104T070000Z
DTSTART:20230104T070000Z
DTEND:20230104T090000Z
LAST-MODIFIED:20230106T072314Z
SUMMARY:De beste folkene om 2023-utfordringene 
DESCRIPTION:Strømkrise, rentesjokk, dramatisk skatteøkning, boligsmell, prishopp og spesielle tilstander i energinæringen! Og i tillegg er det valgår! Få deg litt ferskt bakverk og hør noen av våre beste folk holde korte innlegg om utfordringene som venter, og hva de betyr for deg og din bedrift. Så er du oppdatert og klar for et nytt år!
X-ALT-DESC:Str&#248;mkrise, rentesjokk, dramatisk skatte&#248;kning, boligsmell, prishopp og spesielle tilstander i energin&#230;ringen! Og i tillegg er det valg&#229;r! F&#229; deg litt ferskt bakverk og h&#248;r noen av v&#229;re beste folk holde korte innlegg om utfordringene som venter, og hva de betyr for deg og din bedrift. S&#229; er du oppdatert og klar for et nytt &#229;r!
LOCATION:Rosenkildehuset, Strandkaien 6, 4005 Stavanger
END:VEVENT


END:VCALENDAR



