
BEGIN:VCALENDAR
VERSION:2.0
PRODID:-//MarkedsPartner AS//Umbraco CMS//NO
TIMEZONE-ID:Europe/Oslo
X-WR-TIMEZONE:Europe/Oslo


BEGIN:VEVENT
UID:1fc4d398338149d8b38a48cb3ab9092a
URL:https://umbraco.naeringsforeningen.no/moeter/arkiv/sjef-i-eget-liv/
ORGANIZER;CN=Ola Normann:MAILTO:ola.normann@markedspartner.no
DTSTAMP:20191003T090000Z
DTSTART:20191003T090000Z
DTEND:20191003T113000Z
LAST-MODIFIED:20221031T113513Z
SUMMARY:Sjef i eget liv
DESCRIPTION:– Hvis man er sjef for andre, er det greit at man er sjef i eget liv, er en av konklusjonene til Ingvard Wilhelmsen. Han er lege og spesialist i indremedisin og psykiatri, i tillegg til å være godkjent veileder i kognitiv terapi og kjent over hele landet som grunnlegger av hypokonderklinikken i Bergen.
X-ALT-DESC:– Hvis man er sjef for andre, er det greit at man er sjef i eget liv, er en av konklusjonene til Ingvard Wilhelmsen. Han er lege og spesialist i indremedisin og psykiatri, i tillegg til &#229; v&#230;re godkjent veileder i kognitiv terapi og kjent over hele landet som grunnlegger av hypokonderklinikken i Bergen.
LOCATION:Skr&#229;t&#229;rnet i Hinna Park, J&#229;tt&#229;v&#229;gen
END:VEVENT


END:VCALENDAR



