
BEGIN:VCALENDAR
VERSION:2.0
PRODID:-//MarkedsPartner AS//Umbraco CMS//NO
TIMEZONE-ID:Europe/Oslo
X-WR-TIMEZONE:Europe/Oslo


BEGIN:VEVENT
UID:60550d8de3d3474d9a3b7bb1607dd739
URL:https://umbraco.naeringsforeningen.no/moeter/arkiv/sikkerhet-kommer-foerst_021220/
ORGANIZER;CN=Ola Normann:MAILTO:ola.normann@markedspartner.no
DTSTAMP:20201202T120000Z
DTSTART:20201202T120000Z
DTEND:20201202T131500Z
LAST-MODIFIED:20221031T115532Z
SUMMARY:Sikkerhet kommer først
DESCRIPTION:DIGITALKONFERANSE: Våkne opp!  PST og politiet inviterer til samarbeid. Digital kriminalitet øker mot deg som privatperson, din bedrift, det offentlige og mot Norge som land. Hvordan kan den enkelte av oss bidra til å forebygge så godt som mulig?
X-ALT-DESC:DIGITALKONFERANSE: V&#229;kne opp!  PST og politiet inviterer til samarbeid. Digital kriminalitet &#248;ker mot deg som privatperson, din bedrift, det offentlige og mot Norge som land. Hvordan kan den enkelte av oss bidra til &#229; forebygge s&#229; godt som mulig?
LOCATION:Online
END:VEVENT


END:VCALENDAR



