
BEGIN:VCALENDAR
VERSION:2.0
PRODID:-//MarkedsPartner AS//Umbraco CMS//NO
TIMEZONE-ID:Europe/Oslo
X-WR-TIMEZONE:Europe/Oslo


BEGIN:VEVENT
UID:3e52ab2e43b74795a13f940f8d6694f0
URL:https://umbraco.naeringsforeningen.no/moeter/arkiv/serviceforum22/
ORGANIZER;CN=Ola Normann:MAILTO:ola.normann@markedspartner.no
DTSTAMP:20221020T060000Z
DTSTART:20221020T060000Z
DTEND:20221020T170000Z
LAST-MODIFIED:20221031T115845Z
SUMMARY:(re) Branding and image!
DESCRIPTION:Er du interessert i merkevarebygging, talentutvikling og kompetanse så er dette dagen du bør holde av!
X-ALT-DESC:Er du interessert i merkevarebygging, talentutvikling og kompetanse s&#229; er dette dagen du b&#248;r holde av!
LOCATION:UiS/Norsk hotellh&#248;gskole, Ellen &amp; Axel Lunds hus og Clarion Hotel Stavanger
END:VEVENT


END:VCALENDAR



