
BEGIN:VCALENDAR
VERSION:2.0
PRODID:-//MarkedsPartner AS//Umbraco CMS//NO
TIMEZONE-ID:Europe/Oslo
X-WR-TIMEZONE:Europe/Oslo


BEGIN:VEVENT
UID:d4fa1a58b01645a9bc4e3298027e49f0
URL:https://umbraco.naeringsforeningen.no/moeter/arkiv/science-meets-industry_260521/
ORGANIZER;CN=Ola Normann:MAILTO:ola.normann@markedspartner.no
DTSTAMP:20210526T080000Z
DTSTART:20210526T080000Z
DTEND:20210526T130000Z
LAST-MODIFIED:20221031T121803Z
SUMMARY:Floating Offshore Wind in Norway
DESCRIPTION:DIGITALKONFERANSE: Science meets industry – Floating Offshore Wind in Norway
X-ALT-DESC:DIGITALKONFERANSE: Science meets industry – Floating Offshore Wind in Norway
LOCATION:Online
END:VEVENT


END:VCALENDAR



