
BEGIN:VCALENDAR
VERSION:2.0
PRODID:-//MarkedsPartner AS//Umbraco CMS//NO
TIMEZONE-ID:Europe/Oslo
X-WR-TIMEZONE:Europe/Oslo


BEGIN:VEVENT
UID:a7d137d1e48f43458e9ab7e2f12eed8e
URL:https://umbraco.naeringsforeningen.no/moeter/arkiv/sandneskonferansen_021024/
ORGANIZER;CN=Ola Normann:MAILTO:ola.normann@markedspartner.no
DTSTAMP:20241002T060000Z
DTSTART:20241002T060000Z
DTEND:20241002T100000Z
LAST-MODIFIED:20241003T091008Z
SUMMARY:Sandneskonferansen: Sikkerhet, muligheter og utfordringer
DESCRIPTION:Teknologi optimaliserer, skaper nye forretningsmuligheter og styrker konkurranseevnen. Men teknologi skaper også nye utfordringer. Tidligere forsvarssjef Sverre Diesen kommer for å fortelle om det geopolitiske bakteppet. Green Mountain planlegger etablering av datasenter i Sandnes, og Svein Atle Hagaseth vil fortelle om mulighetene.
X-ALT-DESC:Teknologi optimaliserer, skaper nye forretningsmuligheter og styrker konkurranseevnen. Men teknologi skaper ogs&#229; nye utfordringer. Tidligere forsvarssjef Sverre Diesen kommer for &#229; fortelle om det geopolitiske bakteppet. Green Mountain planlegger etablering av datasenter i Sandnes, og Svein Atle Hagaseth vil fortelle om mulighetene.
LOCATION:Vitenfabrikken, Sandnes
END:VEVENT


END:VCALENDAR



