
BEGIN:VCALENDAR
VERSION:2.0
PRODID:-//MarkedsPartner AS//Umbraco CMS//NO
TIMEZONE-ID:Europe/Oslo
X-WR-TIMEZONE:Europe/Oslo


BEGIN:VEVENT
UID:45b543cbacb940cc917c46ee61843ced
URL:https://umbraco.naeringsforeningen.no/moeter/arkiv/salgsprosess250423/
ORGANIZER;CN=Ola Normann:MAILTO:ola.normann@markedspartner.no
DTSTAMP:20230425T090000Z
DTSTART:20230425T090000Z
DTEND:20230425T110000Z
LAST-MODIFIED:20230426T064853Z
SUMMARY:6 trinn som skaper salg
DESCRIPTION:Vil du forbedre din salgsreise? Her får du en innføring i 6 faser som garantert vil gi deg resultater.
X-ALT-DESC:Vil du forbedre din salgsreise? Her f&#229;r du en innf&#248;ring i 6 faser som garantert vil gi deg resultater.
LOCATION:Rosenkildehuset
END:VEVENT


END:VCALENDAR



