
BEGIN:VCALENDAR
VERSION:2.0
PRODID:-//MarkedsPartner AS//Umbraco CMS//NO
TIMEZONE-ID:Europe/Oslo
X-WR-TIMEZONE:Europe/Oslo


BEGIN:VEVENT
UID:507ab164f30640fd90164015c2ebe221
URL:https://umbraco.naeringsforeningen.no/moeter/arkiv/salghoest/
ORGANIZER;CN=Ola Normann:MAILTO:ola.normann@markedspartner.no
DTSTAMP:20221108T073000Z
DTSTART:20221108T073000Z
DTEND:20221108T090000Z
LAST-MODIFIED:20221108T102930Z
SUMMARY:SALG: Planlegg for suksess i 2023
DESCRIPTION:I denne samlingen får du konkrete råd til hvordan du skal sette deg mål, og lage gode arbeidsplaner slik at du er best mulig forberedt for å nå salgsbudsjettet for 2023.
X-ALT-DESC:I denne samlingen f&#229;r du konkrete r&#229;d til hvordan du skal sette deg m&#229;l, og lage gode arbeidsplaner slik at du er best mulig forberedt for &#229; n&#229; salgsbudsjettet for 2023.
LOCATION:Rosenkildehuset
END:VEVENT


END:VCALENDAR



