
BEGIN:VCALENDAR
VERSION:2.0
PRODID:-//MarkedsPartner AS//Umbraco CMS//NO
TIMEZONE-ID:Europe/Oslo
X-WR-TIMEZONE:Europe/Oslo


BEGIN:VEVENT
UID:e5a05ea6f8fb4b5eb2f15ff5963843ac
URL:https://umbraco.naeringsforeningen.no/moeter/arkiv/salg22-1/
ORGANIZER;CN=Ola Normann:MAILTO:ola.normann@markedspartner.no
DTSTAMP:20220308T100000Z
DTSTART:20220308T100000Z
DTEND:20220308T120000Z
LAST-MODIFIED:20221031T122804Z
SUMMARY:Salg 2022: Den nye salgshverdagen i 2022
DESCRIPTION:Hvordan blir salgshverdagen i 2022 i en digital verden preget av pandemi?
X-ALT-DESC:Hvordan blir salgshverdagen i 2022 i en digital verden preget av pandemi?
LOCATION:Rosenkildehuet
END:VEVENT


END:VCALENDAR



