
BEGIN:VCALENDAR
VERSION:2.0
PRODID:-//MarkedsPartner AS//Umbraco CMS//NO
TIMEZONE-ID:Europe/Oslo
X-WR-TIMEZONE:Europe/Oslo


BEGIN:VEVENT
UID:bda68ebde12a4f209c08550e9a50f0c5
URL:https://umbraco.naeringsforeningen.no/moeter/arkiv/salg-for-selgere_251121/
ORGANIZER;CN=Ola Normann:MAILTO:ola.normann@markedspartner.no
DTSTAMP:20211125T070000Z
DTSTART:20211125T070000Z
DTEND:20211125T103000Z
LAST-MODIFIED:20221031T123212Z
SUMMARY:Salg for selgere
DESCRIPTION:Salg for selgere er en aktiv møteplass for salgsledere og selgere for å sikre kompetansedeling, begeistring og nye kontakter.  Tema for denne samlingen er: Hvordan bygge nettverk i praksis?
X-ALT-DESC:Salg for selgere er en aktiv m&#248;teplass for salgsledere og selgere for &#229; sikre kompetansedeling, begeistring og nye kontakter.  Tema for denne samlingen er: Hvordan bygge nettverk i praksis?
LOCATION:Rosenkildehuset
END:VEVENT


END:VCALENDAR



