
BEGIN:VCALENDAR
VERSION:2.0
PRODID:-//MarkedsPartner AS//Umbraco CMS//NO
TIMEZONE-ID:Europe/Oslo
X-WR-TIMEZONE:Europe/Oslo


BEGIN:VEVENT
UID:2b087a9692c24c728bccf2d446453646
URL:https://umbraco.naeringsforeningen.no/moeter/arkiv/salg-for-selgere_220920/
ORGANIZER;CN=Ola Normann:MAILTO:ola.normann@markedspartner.no
DTSTAMP:20200922T063000Z
DTSTART:20200922T063000Z
DTEND:20200922T093000Z
LAST-MODIFIED:20221031T113918Z
SUMMARY:Salg for selgere: Selvledelse
DESCRIPTION:Salg er et yrke som krever mye disiplin og struktur. I tillegg jobber mange selgere alene med sitt fagområde i sin bedrift, og må lage sine egne planer og klappe seg selv på skulderen for oppnådde resultater. Møt blant annet Trond Magnar Unhammer i NorDan, en bedrift som jobber beinhardt med salgsstrategier i et globalt marked. Produksjon på Moi, men selgere i mange land.
X-ALT-DESC:Salg er et yrke som krever mye disiplin og struktur. I tillegg jobber mange selgere alene med sitt fagomr&#229;de i sin bedrift, og m&#229; lage sine egne planer og klappe seg selv p&#229; skulderen for oppn&#229;dde resultater. M&#248;t blant annet Trond Magnar Unhammer i NorDan, en bedrift som jobber beinhardt med salgsstrategier i et globalt marked. Produksjon p&#229; Moi, men selgere i mange land.
LOCATION:Rosenkildehuset
END:VEVENT


END:VCALENDAR



