
BEGIN:VCALENDAR
VERSION:2.0
PRODID:-//MarkedsPartner AS//Umbraco CMS//NO
TIMEZONE-ID:Europe/Oslo
X-WR-TIMEZONE:Europe/Oslo


BEGIN:VEVENT
UID:88872a0438d54fa89f0c7f8fa80b3de5
URL:https://umbraco.naeringsforeningen.no/moeter/arkiv/salg-for-selgere_190820/
ORGANIZER;CN=Ola Normann:MAILTO:ola.normann@markedspartner.no
DTSTAMP:20200819T063000Z
DTSTART:20200819T063000Z
DTEND:20200819T093000Z
LAST-MODIFIED:20221031T121535Z
SUMMARY:Salg for selgere: Slik avtaler du kundemøter 
DESCRIPTION:Bli med oss når Norges kanskje mest erfarne salgstrener, Kristoffer Omdal fra Scan Learn, deler sine beste råd om hvordan du avtaler kundemøter.
X-ALT-DESC:Bli med oss n&#229;r Norges kanskje mest erfarne salgstrener, Kristoffer Omdal fra Scan Learn, deler sine beste r&#229;d om hvordan du avtaler kundem&#248;ter.
LOCATION:Rosenkildehuset
END:VEVENT


END:VCALENDAR



