
BEGIN:VCALENDAR
VERSION:2.0
PRODID:-//MarkedsPartner AS//Umbraco CMS//NO
TIMEZONE-ID:Europe/Oslo
X-WR-TIMEZONE:Europe/Oslo


BEGIN:VEVENT
UID:93b001d657224fcf924272cc95f7312f
URL:https://umbraco.naeringsforeningen.no/moeter/arkiv/salg-for-selgere_180520/
ORGANIZER;CN=Ola Normann:MAILTO:ola.normann@markedspartner.no
DTSTAMP:20200518T110000Z
DTSTART:20200518T110000Z
DTEND:20200518T120000Z
LAST-MODIFIED:20221031T121015Z
SUMMARY:Webinar: Salg for selgere: salgskultur
DESCRIPTION:Aktiv salgskultur og proaktiv tenkning er temaet når Børge Aanestad og Richard Kjønnhaug fra Schibsted Marketing Service kommer for å dele  inspirasjon.
X-ALT-DESC:Aktiv salgskultur og proaktiv tenkning er temaet n&#229;r B&#248;rge Aanestad og Richard Kj&#248;nnhaug fra Schibsted Marketing Service kommer for &#229; dele  inspirasjon.
LOCATION:webinar
END:VEVENT


END:VCALENDAR



