
BEGIN:VCALENDAR
VERSION:2.0
PRODID:-//MarkedsPartner AS//Umbraco CMS//NO
TIMEZONE-ID:Europe/Oslo
X-WR-TIMEZONE:Europe/Oslo


BEGIN:VEVENT
UID:84cf0cdda41747c297fa7607b2df132f
URL:https://umbraco.naeringsforeningen.no/moeter/arkiv/salg-for-selgere_171120/
ORGANIZER;CN=Ola Normann:MAILTO:ola.normann@markedspartner.no
DTSTAMP:20201117T073000Z
DTSTART:20201117T073000Z
DTEND:20201117T090000Z
LAST-MODIFIED:20221031T115252Z
SUMMARY:Salg for selgere: Salg i en ny digital hverdag
DESCRIPTION:Flere bedrifter er nå bekymret for tynne ordrebøker. Kundene beveger seg i digitale kanaler før de går i dialog med selger. Selgere kan ikke reise og møte kunder som før. Situasjonen krever nye kanaler og arbeidsformer for å treffe kundene.
X-ALT-DESC:Flere bedrifter er n&#229; bekymret for tynne ordreb&#248;ker. Kundene beveger seg i digitale kanaler f&#248;r de g&#229;r i dialog med selger. Selgere kan ikke reise og m&#248;te kunder som f&#248;r. Situasjonen krever nye kanaler og arbeidsformer for &#229; treffe kundene.
LOCATION:Digital konferanse
END:VEVENT


END:VCALENDAR



