
BEGIN:VCALENDAR
VERSION:2.0
PRODID:-//MarkedsPartner AS//Umbraco CMS//NO
TIMEZONE-ID:Europe/Oslo
X-WR-TIMEZONE:Europe/Oslo


BEGIN:VEVENT
UID:b199e3701ce044fabda99ab287ca4374
URL:https://umbraco.naeringsforeningen.no/moeter/arkiv/salg-for-selgere_140121/
ORGANIZER;CN=Ola Normann:MAILTO:ola.normann@markedspartner.no
DTSTAMP:20210114T073000Z
DTSTART:20210114T073000Z
DTEND:20210114T090000Z
LAST-MODIFIED:20221031T115943Z
SUMMARY:Salg for selgere: Presentasjonsteknikk online
DESCRIPTION:
X-ALT-DESC:
LOCATION:Webinar
END:VEVENT


END:VCALENDAR



