
BEGIN:VCALENDAR
VERSION:2.0
PRODID:-//MarkedsPartner AS//Umbraco CMS//NO
TIMEZONE-ID:Europe/Oslo
X-WR-TIMEZONE:Europe/Oslo


BEGIN:VEVENT
UID:975ffe71724c4b23ba2f7ac5ff2b36ae
URL:https://umbraco.naeringsforeningen.no/moeter/arkiv/salg-for-selgere-proaktiv-markedsarbeid_210420/
ORGANIZER;CN=Ola Normann:MAILTO:ola.normann@markedspartner.no
DTSTAMP:20200421T110000Z
DTSTART:20200421T110000Z
DTEND:20200421T120000Z
LAST-MODIFIED:20221031T120633Z
SUMMARY:Webinar: Salg for selgere – Kom deg styrket ut av krisen
DESCRIPTION:Sigurd Grayston Skjørestad gir deg en konkret «oppskrift» med fokus på strategi og struktur for proaktiv kundebehandling og målrettet salg og markedsarbeid.
X-ALT-DESC:Sigurd Grayston Skj&#248;restad gir deg en konkret &#171;oppskrift&#187; med fokus p&#229; strategi og struktur for proaktiv kundebehandling og m&#229;lrettet salg og markedsarbeid.
LOCATION:Online
END:VEVENT


END:VCALENDAR



