
BEGIN:VCALENDAR
VERSION:2.0
PRODID:-//MarkedsPartner AS//Umbraco CMS//NO
TIMEZONE-ID:Europe/Oslo
X-WR-TIMEZONE:Europe/Oslo


BEGIN:VEVENT
UID:4617f8f66b694698a9a2004c2287d832
URL:https://umbraco.naeringsforeningen.no/moeter/arkiv/ryrekrutt-2025/
ORGANIZER;CN=Ola Normann:MAILTO:ola.normann@markedspartner.no
DTSTAMP:20250415T150000Z
DTSTART:20250415T150000Z
DTEND:20250415T203000Z
LAST-MODIFIED:20250423T105453Z
SUMMARY:RyRekrutt 2025 – nettverks- og rekrutteringsfest for Ryfylke
DESCRIPTION:Bli med på RyRekrutt 2025 – den største nettverks- og rekrutteringsfesten for Ryfylke. Opplev TØFL og ISAH på Fiskepiren i Stavanger – og møt din framtidige arbeidsgjevar.
X-ALT-DESC:Bli med p&#229; RyRekrutt 2025 – den st&#248;rste nettverks- og rekrutteringsfesten for Ryfylke. Opplev T&#216;FL og ISAH p&#229; Fiskepiren i Stavanger – og m&#248;t din framtidige arbeidsgjevar.
LOCATION:Fiskepiren
END:VEVENT


END:VCALENDAR



