
BEGIN:VCALENDAR
VERSION:2.0
PRODID:-//MarkedsPartner AS//Umbraco CMS//NO
TIMEZONE-ID:Europe/Oslo
X-WR-TIMEZONE:Europe/Oslo


BEGIN:VEVENT
UID:308e2725be3c4205b5ff04fb562928e6
URL:https://umbraco.naeringsforeningen.no/moeter/arkiv/risavikdagen23_20102023/
ORGANIZER;CN=Ola Normann:MAILTO:ola.normann@markedspartner.no
DTSTAMP:20231020T060000Z
DTSTART:20231020T060000Z
DTEND:20231020T111500Z
LAST-MODIFIED:20231023T063737Z
SUMMARY:Risavikadagen 2023
DESCRIPTION:Velkommen til årets viktigste møteplass for Risavika – et av landets mest nyskapende nærings- og havneområder.
X-ALT-DESC:Velkommen til &#229;rets viktigste m&#248;teplass for Risavika – et av landets mest nyskapende n&#230;rings- og havneomr&#229;der.
LOCATION:Clarion Hotel Air
END:VEVENT


END:VCALENDAR



