
BEGIN:VCALENDAR
VERSION:2.0
PRODID:-//MarkedsPartner AS//Umbraco CMS//NO
TIMEZONE-ID:Europe/Oslo
X-WR-TIMEZONE:Europe/Oslo


BEGIN:VEVENT
UID:0b368b2ef09d4aaab43129f46b9b78a7
URL:https://umbraco.naeringsforeningen.no/moeter/arkiv/risavikadagen_2024/
ORGANIZER;CN=Ola Normann:MAILTO:ola.normann@markedspartner.no
DTSTAMP:20241121T070000Z
DTSTART:20241121T070000Z
DTEND:20241121T110000Z
LAST-MODIFIED:20241121T140956Z
SUMMARY:Risavikadagen 2024: Årets viktigste møteplass for Risavika
DESCRIPTION:Risavika er et av landets mest nyskapende nærings- og havneområder, og Risavikadagen vil gi deg både status og svar på hva som må til for videre utvikling. Vi skal også dele ut Risavikaprisen – og avslutter med nydelig lunsj og nettverksbygging.
X-ALT-DESC:Risavika er et av landets mest nyskapende n&#230;rings- og havneomr&#229;der, og Risavikadagen vil gi deg b&#229;de status og svar p&#229; hva som m&#229; til for videre utvikling. Vi skal ogs&#229; dele ut Risavikaprisen – og avslutter med nydelig lunsj og nettverksbygging.
LOCATION:Mento, Kontinentalveien 22, 4098 Tananger
END:VEVENT


END:VCALENDAR



