
BEGIN:VCALENDAR
VERSION:2.0
PRODID:-//MarkedsPartner AS//Umbraco CMS//NO
TIMEZONE-ID:Europe/Oslo
X-WR-TIMEZONE:Europe/Oslo


BEGIN:VEVENT
UID:a4b069f4c46c4ec2b7cdce30021ef8cf
URL:https://umbraco.naeringsforeningen.no/moeter/arkiv/risavikadagen-2020/
ORGANIZER;CN=Ola Normann:MAILTO:ola.normann@markedspartner.no
DTSTAMP:20201023T060000Z
DTSTART:20201023T060000Z
DTEND:20201023T110000Z
LAST-MODIFIED:20221031T114307Z
SUMMARY:Risavikadagen 2020
DESCRIPTION:Olje- og energiminister Tina Bru kommer på Risavikadagen!
Det blir et spennende program hvor du bla.a får høre om utsiktene for energiindustrien, samt for transport- og eksportnæringen som leverer til olje- og energiindustrien. Hvilke nye muligheter ligger foran oss?
X-ALT-DESC:Olje- og energiminister Tina Bru kommer p&#229; Risavikadagen!
Det blir et spennende program hvor du bla.a f&#229;r h&#248;re om utsiktene for energiindustrien, samt for transport- og eksportn&#230;ringen som leverer til olje- og energiindustrien. Hvilke nye muligheter ligger foran oss?
LOCATION:Solastranden G&#229;rd, Nordsj&#248;vegen 299, 4053 R&#230;ge. Bygg: Maskinhuset.
END:VEVENT


END:VCALENDAR



