
BEGIN:VCALENDAR
VERSION:2.0
PRODID:-//MarkedsPartner AS//Umbraco CMS//NO
TIMEZONE-ID:Europe/Oslo
X-WR-TIMEZONE:Europe/Oslo


BEGIN:VEVENT
UID:3393415d34d6400a90edbd96070259ad
URL:https://umbraco.naeringsforeningen.no/moeter/arkiv/risavikadagen-2019/
ORGANIZER;CN=Ola Normann:MAILTO:ola.normann@markedspartner.no
DTSTAMP:20191024T060000Z
DTSTART:20191024T060000Z
DTEND:20191024T110000Z
LAST-MODIFIED:20221031T113554Z
SUMMARY:Risavikadagen 2019
DESCRIPTION:Velkommen til årets viktigste møteplass for Risavika - et av landets mest nyskapende nærings- og havneområder.
X-ALT-DESC:Velkommen til &#229;rets viktigste m&#248;teplass for Risavika - et av landets mest nyskapende n&#230;rings- og havneomr&#229;der.
LOCATION:Mento AS i Risavika, Kontinentalvegen 22
END:VEVENT


END:VCALENDAR



