
BEGIN:VCALENDAR
VERSION:2.0
PRODID:-//MarkedsPartner AS//Umbraco CMS//NO
TIMEZONE-ID:Europe/Oslo
X-WR-TIMEZONE:Europe/Oslo


BEGIN:VEVENT
UID:464a18016f504581a3fbdd85d8c5fca5
URL:https://umbraco.naeringsforeningen.no/moeter/arkiv/rekrutteringstrender-2023/
ORGANIZER;CN=Ola Normann:MAILTO:ola.normann@markedspartner.no
DTSTAMP:20230823T060000Z
DTSTART:20230823T060000Z
DTEND:20230823T110000Z
LAST-MODIFIED:20230824T072203Z
SUMMARY:Rekrutteringstrender og tiltak
DESCRIPTION:Vi presenterer og diskuterer nyeste trender og mulige felles tiltak for hvordan  regionen kan tiltrekke oss flere arbeidstakere, både i privat og offentlig sektor.  Innledninger i plenum og workshop i etterkant.
X-ALT-DESC:Vi presenterer og diskuterer nyeste trender og mulige felles tiltak for hvordan  regionen kan tiltrekke oss flere arbeidstakere, b&#229;de i privat og offentlig sektor.  Innledninger i plenum og workshop i etterkant.
LOCATION:Rosenkildehuset
END:VEVENT


END:VCALENDAR



