
BEGIN:VCALENDAR
VERSION:2.0
PRODID:-//MarkedsPartner AS//Umbraco CMS//NO
TIMEZONE-ID:Europe/Oslo
X-WR-TIMEZONE:Europe/Oslo


BEGIN:VEVENT
UID:94457c0b89ce46e5932d1ff1f17d8ce6
URL:https://umbraco.naeringsforeningen.no/moeter/arkiv/rekruttering_2022_130122/
ORGANIZER;CN=Ola Normann:MAILTO:ola.normann@markedspartner.no
DTSTAMP:20220113T080000Z
DTSTART:20220113T080000Z
DTEND:20220113T100000Z
LAST-MODIFIED:20221031T123113Z
SUMMARY:Hvor finner vi talentene i 2022?
DESCRIPTION:DIGITALKONFERANSE: Hvordan skal regionen løse kompetansebehovet fremover, både på kort og lang sikt?
X-ALT-DESC:DIGITALKONFERANSE: Hvordan skal regionen l&#248;se kompetansebehovet fremover, b&#229;de p&#229; kort og lang sikt?
LOCATION:DIGITAL KONFERANSE
END:VEVENT


END:VCALENDAR



