
BEGIN:VCALENDAR
VERSION:2.0
PRODID:-//MarkedsPartner AS//Umbraco CMS//NO
TIMEZONE-ID:Europe/Oslo
X-WR-TIMEZONE:Europe/Oslo


BEGIN:VEVENT
UID:955de7c0930940f3910ff62f6aa9ecb4
URL:https://umbraco.naeringsforeningen.no/moeter/arkiv/reiseliv-laerlinger/
ORGANIZER;CN=Ola Normann:MAILTO:ola.normann@markedspartner.no
DTSTAMP:20240216T120000Z
DTSTART:20240216T120000Z
DTEND:20240216T133000Z
LAST-MODIFIED:20240219T073411Z
SUMMARY:Rekruttering av lærebedrifter innen reiselivsfaget
DESCRIPTION:Flere unge viser økende interesse for reiselivet og restaurant og matfag i videregående skole. Vil du være med å bidra til vekst?
X-ALT-DESC:Flere unge viser &#248;kende interesse for reiselivet og restaurant og matfag i videreg&#229;ende skole. Vil du v&#230;re med &#229; bidra til vekst?
LOCATION:J&#229;tt&#229; videreg&#229;ende skole
END:VEVENT


END:VCALENDAR



