
BEGIN:VCALENDAR
VERSION:2.0
PRODID:-//MarkedsPartner AS//Umbraco CMS//NO
TIMEZONE-ID:Europe/Oslo
X-WR-TIMEZONE:Europe/Oslo


BEGIN:VEVENT
UID:9f951d1ae7b049d2af813a0b3724032a
URL:https://umbraco.naeringsforeningen.no/moeter/arkiv/presentasjonsteknikk/
ORGANIZER;CN=Ola Normann:MAILTO:ola.normann@markedspartner.no
DTSTAMP:20240209T103000Z
DTSTART:20240209T103000Z
DTEND:20240209T140000Z
LAST-MODIFIED:20240209T145629Z
SUMMARY:Hvordan bli en bedre formidler? Tips og råd!
DESCRIPTION:Ønsker du å lære deg hvordan du raskt og effektivt blir en bedre formidler? Lær deg de beste triksene når vi får besøk av høyskolelektor Nina Vogt fra BI.
X-ALT-DESC:&#216;nsker du &#229; l&#230;re deg hvordan du raskt og effektivt blir en bedre formidler? L&#230;r deg de beste triksene n&#229;r vi f&#229;r bes&#248;k av h&#248;yskolelektor Nina Vogt fra BI.
LOCATION:Rosenkildehuset, Stavanger
END:VEVENT


END:VCALENDAR



